BEGIN:VCALENDAR
VERSION:2.0
PRODID:-//Library Market//iCal Export//EN
BEGIN:VEVENT
SUMMARY:Creative Writing
UID:5352
DTSTAMP:20260425T222800Z
DTSTART:20260606T180000Z
DTEND:20260606T200000Z
LOCATION:250 Route 25A, Shoreham, NY 11786, United States
ROOM: Board Room
DESCRIPTION:This monthly writing workshop is the place to create new spont
 aneous work using Story Sparks, group discussion, and constructive feedbac
 k. Fact or fiction. Poetry or prose. 
URL:https://northshorepl.librarycalendar.com/event/creative-writing-5352
END:VEVENT
END:VCALENDAR
