BEGIN:VCALENDAR
VERSION:2.0
PRODID:-//Library Market//iCal Export//EN
BEGIN:VEVENT
SUMMARY:Stitch &amp; Quilt
UID:5353
DTSTAMP:20260425T222800Z
DTSTART:20260528T223000Z
DTEND:20260529T000000Z
LOCATION:250 Route 25A, Shoreham, NY 11786, United States
ROOM: Quiet Room
DESCRIPTION:Bring a project or make a simple project we have on hand. Brin
 g your sewing machine or use ours. Advice and tips on projects provided.
URL:https://northshorepl.librarycalendar.com/event/copy-stitch-quilt-5353
END:VEVENT
END:VCALENDAR
