BEGIN:VCALENDAR
VERSION:2.0
PRODID:-//Library Market//iCal Export//EN
BEGIN:VEVENT
SUMMARY:Spring Ladybug Painting (Grades K-2)
UID:5427
DTSTAMP:20260425T194100Z
DTSTART:20260504T204500Z
DTEND:20260504T213000Z
LOCATION:250 Route 25A, Shoreham, NY 11786, United States
ROOM: Activity Room
DESCRIPTION:Dress for a mess!Join us as we paint a beautiful ladybug.
URL:https://northshorepl.librarycalendar.com/event/spring-ladybug-painting
 -grades-k-2-5427
END:VEVENT
END:VCALENDAR
