BEGIN:VCALENDAR
VERSION:2.0
PRODID:-//Library Market//iCal Export//EN
BEGIN:VEVENT
SUMMARY:Author Adventure (Grades K-2)
UID:5428
DTSTAMP:20260425T222800Z
DTSTART:20260514T204500Z
DTEND:20260514T210000Z
LOCATION:250 Route 25A, Shoreham, NY 11786, United States
ROOM: Activity Room
DESCRIPTION:Listen to books by Aaron Blabey, then make your own Pig the Pu
 g craft!
URL:https://northshorepl.librarycalendar.com/event/author-adventure-grades
 -k-2-5428
END:VEVENT
END:VCALENDAR
