BEGIN:VCALENDAR
VERSION:2.0
PRODID:-//Library Market//iCal Export//EN
BEGIN:VEVENT
SUMMARY:Community Helpers (Grades K-5)
UID:5473
DTSTAMP:20260426T025500Z
DTSTART:20260618T220000Z
DTEND:20260618T230000Z
LOCATION:250 Route 25A, Shoreham, NY 11786, United States
ROOM: Activity Room
DESCRIPTION:Bring joy to someone’s day! Join us as we decorate coffee sl
 eeves to be donated to local coffee shops.
URL:https://northshorepl.librarycalendar.com/event/community-helpers-grade
 s-k-5-5473
END:VEVENT
END:VCALENDAR
