BEGIN:VCALENDAR
VERSION:2.0
PRODID:-//Library Market//iCal Export//EN
BEGIN:VEVENT
SUMMARY:World Ocean Day (Grades 3-5)
UID:5475
DTSTAMP:20260425T194100Z
DTSTART:20260603T220000Z
DTEND:20260603T230000Z
LOCATION:250 Route 25A, Shoreham, NY 11786, United States
ROOM: Activity Room
DESCRIPTION:Celebrate world ocean day as we read ocean stories and make an
  adorable sea otter craft.
URL:https://northshorepl.librarycalendar.com/event/world-ocean-day-grades-
 3-5-5475
END:VEVENT
END:VCALENDAR
