BEGIN:VCALENDAR
VERSION:2.0
PRODID:-//Library Market//iCal Export//EN
BEGIN:VEVENT
SUMMARY:Seashell Charm Holders (Ent. Grades 3-5)
UID:5478
DTSTAMP:20260426T025500Z
DTSTART:20260629T151500Z
DTEND:20260629T161500Z
LOCATION:250 Route 25A, Shoreham, NY 11786, United States
ROOM: Large Meeting Room
DESCRIPTION:As you get ready to hit the beach this summer, meet Long Islan
 d&#039;s mussels, clams, and oysters, and uncover the secret history of oy
 sters in New York. Bring a piece of the sea home with you and transform se
 ashells into a one-of-a-kind trinket tray to hold mini treasures.
URL:https://northshorepl.librarycalendar.com/event/seashell-charm-holders-
 ent-grades-3-5-5478
END:VEVENT
END:VCALENDAR
