BEGIN:VCALENDAR
VERSION:2.0
PRODID:-//Library Market//iCal Export//EN
BEGIN:VEVENT
SUMMARY:The College Admissions Essay Process
UID:5600
DTSTAMP:20260425T222800Z
DTSTART:20260516T170000Z
DTEND:20260516T180000Z
LOCATION:250 Route 25A, Shoreham, NY 11786, United States
ROOM: Large Meeting Room
DESCRIPTION:Dr. Coppi of Say Yes to the Ess-ay takes you through the writt
 en requirements of the college admissions process from common app essays t
 o letters of continued interest to appeals. We&#039;ll discuss all you nee
 d to start and finish your college application essays!Both parents and tee
 ns are encouraged to attend.
URL:https://northshorepl.librarycalendar.com/event/college-admissions-essa
 y-process-5600
END:VEVENT
END:VCALENDAR
