BEGIN:VCALENDAR
VERSION:2.0
PRODID:-//Library Market//iCal Export//EN
BEGIN:VEVENT
SUMMARY:Battle of the Books
UID:5611
DTSTAMP:20260425T222800Z
DTSTART:20260804T230000Z
DTEND:20260805T003000Z
LOCATION:250 Route 25A, Shoreham, NY 11786, United States
ROOM: YA Room
DESCRIPTION:Battle of the Books is back this year! Join us as we read six
  books this summer and prepare for a giant trivia game against other libra
 ries in Suffolk County! Check out our teen Instagram on Friday, 5/1, when 
 we announce the six titles. Registration begins 5/1, the first book will b
 e available to pick up on this date. This program is for teens entering g
 rades 6-9 in Fall 2026.
URL:https://northshorepl.librarycalendar.com/event/battle-books-5611
END:VEVENT
END:VCALENDAR
