BEGIN:VCALENDAR
VERSION:2.0
PRODID:-//Library Market//iCal Export//EN
BEGIN:VEVENT
SUMMARY:Crochet Group
UID:5616
DTSTAMP:20260425T222800Z
DTSTART:20260523T150000Z
DTEND:20260523T160000Z
LOCATION:250 Route 25A, Shoreham, NY 11786, United States
ROOM: YA Room
DESCRIPTION:Calling all crocheters! Come connect with a group of beginners
  to experienced crocheters, and bring a project you are working on. All a
 ges are welcome. Registration is suggested.
URL:https://northshorepl.librarycalendar.com/event/crochet-group-5616
END:VEVENT
END:VCALENDAR
