BEGIN:VCALENDAR
VERSION:2.0
PRODID:-//Library Market//iCal Export//EN
BEGIN:VEVENT
SUMMARY:Copy of Virtual -Stonewall Then &amp; Now
UID:5701
DTSTAMP:20260425T204700Z
DTSTART:20260610T230000Z
DTEND:20260611T000000Z
LOCATION:
DESCRIPTION:Stonewall Then &amp; Now Wednesday, June 10, 7:00 – 8:00 PM
  The Stonewall National Monument Visitor Center (SNMVC) memorializes the 
 legacy of the Stonewall Rebellion of 1969 while serving as a beacon for ge
 nerations to come. This guided, immersive tour of the Center explores the 
 history of how the LGBTQ+ Liberation Movement &amp; Stonewall&#039;s legac
 y advanced the fight for full LGBTQ+ equality. Offered through a collabora
 tion of the East End Libraries.
URL:https://northshorepl.librarycalendar.com/event/copy-virtual-stonewall-
 then-now-5701
END:VEVENT
END:VCALENDAR
